BEGIN:VCALENDAR
VERSION:2.0
PRODID:-//2be Website - ECPv6.15.20//NONSGML v1.0//EN
CALSCALE:GREGORIAN
METHOD:PUBLISH
X-ORIGINAL-URL:https://2be-markenmacher.de
X-WR-CALDESC:Veranstaltungen für 2be Website
REFRESH-INTERVAL;VALUE=DURATION:PT1H
X-Robots-Tag:noindex
X-PUBLISHED-TTL:PT1H
BEGIN:VTIMEZONE
TZID:Europe/Berlin
BEGIN:DAYLIGHT
TZOFFSETFROM:+0100
TZOFFSETTO:+0200
TZNAME:CEST
DTSTART:20210328T010000
END:DAYLIGHT
BEGIN:STANDARD
TZOFFSETFROM:+0200
TZOFFSETTO:+0100
TZNAME:CET
DTSTART:20211031T010000
END:STANDARD
BEGIN:DAYLIGHT
TZOFFSETFROM:+0100
TZOFFSETTO:+0200
TZNAME:CEST
DTSTART:20220327T010000
END:DAYLIGHT
BEGIN:STANDARD
TZOFFSETFROM:+0200
TZOFFSETTO:+0100
TZNAME:CET
DTSTART:20221030T010000
END:STANDARD
BEGIN:DAYLIGHT
TZOFFSETFROM:+0100
TZOFFSETTO:+0200
TZNAME:CEST
DTSTART:20230326T010000
END:DAYLIGHT
BEGIN:STANDARD
TZOFFSETFROM:+0200
TZOFFSETTO:+0100
TZNAME:CET
DTSTART:20231029T010000
END:STANDARD
BEGIN:DAYLIGHT
TZOFFSETFROM:+0100
TZOFFSETTO:+0200
TZNAME:CEST
DTSTART:20240331T010000
END:DAYLIGHT
BEGIN:STANDARD
TZOFFSETFROM:+0200
TZOFFSETTO:+0100
TZNAME:CET
DTSTART:20241027T010000
END:STANDARD
END:VTIMEZONE
BEGIN:VEVENT
DTSTART;TZID=Europe/Berlin:20230511T163000
DTEND;TZID=Europe/Berlin:20230511T183000
DTSTAMP:20260421T000529
CREATED:20230418T103126Z
LAST-MODIFIED:20230508T115238Z
UID:10000048-1683822600-1683829800@2be-markenmacher.de
SUMMARY:Fördermittel - Das richtige Förderpaket für Dein Projekt
DESCRIPTION:Finanzierung ist ein zentraler Faktor für jedes geplante und/oder kommende Projekt\, aber es kann schwierig sein\, das richtige Finanzierungspaket zu finden. In diesem Seminar möchten wir Dir dabei helfen\, einen Überblick über die verschiedenen staatlichen Förderprogramme zu erhalten\, die bei der Finanzierung Deines Projekts helfen können. Wir zeigen auf\, welche Voraussetzungen erfüllt sein müssen\, um eine Förderung zu erhalten und welche Antragsverfahren zu beachten sind. \nZusätzlich werden wir Dir Einblick in verschiedene Förderprogramme geben\, um Dir dabei zu helfen\, das am besten geeignete Programm für Deine Bedürfnisse auszuwählen. \nWann: Donnerstag\, den 11.05.2023 / 16.30 – 18.30 Uhr\nWie: Hybrid-Veranstaltung (per Microsoft Teams und vor Ort) \nGemeinsam werden wir folgende Themen durchgehen und besprechen: \n– Von go-digital über Hamburg Digital bis hin zu Digital Bonus – Wir bringen Licht ins Dunkel\n– Bundesfördermittel und Bundesländer\n– Was ist Dein Projekt – Wir verraten welche Förderung zu Dir passt\n– Gemeinsamer Austausch – Denn Monolog kann jeder \nBucht einen Platz und seid dabei! \nWir freuen uns auf Euch\, gemeinsame Ideen und viele interessante Themen. \nVielen Dank\, beste Grüße und bis bald.\nDenis Robens und Matthias Brinkmann \n  \nNeugierig geworden?\nUnsere Ansprechpartner helfen Ihnen gerne weiter: \n \nMatthias Brinkmann \n+49 (0)911 / 47 49 49 49\nbrinkmann@twobe.de \n  \n \nKathrin Hasseler \n+49 (0)911 / 47 49 49 54\nhasseler@twobe.de \n 
URL:https://2be-markenmacher.de/veranstaltung/foerdermittel-foerderpakete-fuer-projekte/
LOCATION:Hybrid\, Dr.-Carlo-Schmid-Straße 200\, Nürnberg\, 90482
ATTACH;FMTTYPE=image/jpeg:https://2be-markenmacher.de/wp-content/uploads/go-digital-foerdermittel-umsatzwerk-veranstaltung-2be-die-markenmacher.jpg
ORGANIZER;CN="2be_die markenmacher":MAILTO:projektmanagement@twobe.de
END:VEVENT
BEGIN:VEVENT
DTSTART;TZID=Europe/Berlin:20221025T170000
DTEND;TZID=Europe/Berlin:20221025T180000
DTSTAMP:20260421T000529
CREATED:20221221T135521Z
LAST-MODIFIED:20221221T135608Z
UID:10000008-1666717200-1666720800@2be-markenmacher.de
SUMMARY:Fördermittel - Das richtige Förderpaket für Dein Projekt
DESCRIPTION:Wann: Donnerstag\, den 25.10. / 17.00 – 19.00 Uhr\nWie: Hybrid-Veranstaltung (per Microsoft Teams und vor Ort) \nGemeinsam werden wir folgende Themen durchgehen und besprechen: \n– Von go-digital über Hamburg Digital bis hin zu Digital Bonus – Wir bringen Licht ins Dunkel\n– Bundesfördermittel und Bundesländer\n– Was ist Dein Projekt – Wir verraten welche Förderung zu Dir passt\n– Gemeinsamer Austausch – Denn Monolog kann jeder \nBucht einen Platz und seid dabei! \nWir freuen uns auf Euch\, gemeinsame Ideen und viele interessante Themen. \nVielen Dank\, beste Grüße und bis bald.\nDenis Robens und Matthias Brinkmann \n  \nNeugierig geworden?\nUnsere Ansprechpartner helfen Ihnen gerne weiter: \n \nMatthias Brinkmann \n+49 (0)911 / 47 49 49 49\nbrinkmann@twobe.de \n  \n \nKathrin Hasseler \n+49 (0)911 / 47 49 49 54\nhasseler@twobe.de \n 
URL:https://2be-markenmacher.de/veranstaltung/foerdermittel-foerderpakete-projekte/
LOCATION:Hybrid\, Dr.-Carlo-Schmid-Straße 200\, Nürnberg\, 90482
ATTACH;FMTTYPE=image/jpeg:https://2be-markenmacher.de/wp-content/uploads/Veranstaltungenb-Foerderung-Oktober-Denis-Robens.jpg
ORGANIZER;CN="2be_die markenmacher":MAILTO:projektmanagement@twobe.de
END:VEVENT
BEGIN:VEVENT
DTSTART;TZID=Europe/Berlin:20221019T170000
DTEND;TZID=Europe/Berlin:20221019T190000
DTSTAMP:20260421T000529
CREATED:20221221T140257Z
LAST-MODIFIED:20221221T140257Z
UID:10000009-1666198800-1666206000@2be-markenmacher.de
SUMMARY:Ganzheitliche Digitalisierung - EXPERT RUNDE
DESCRIPTION:Du warst bereits bei einer unserer Experten Runde dabei? Dann bist du hier mehr als richtig: \nAndreas Genske\, Thorsten Rödel und Matthias Brinkmann möchten sehr herzlich zu einer weiteren „Runde der Experten“ zum Thema Ganzheitliche Digitalisierung einladen. \nWann: Mittwoch\, den 19.10. / 17.00 – 19.00 Uhr\nWie: Hybrid-Veranstaltung (per Microsoft Teams und vor Ort) \nGemeinsam werden wir folgende Themen besprechen und unbedingt diskutieren:\n– Wie können die Beratungsunternehmen erfolgreich zusammenarbeiten?\n– Gemeinsam aktuelle Anforderungen und vermeintliche Hürden meistern!\n– Erfahrungsaustausch – Bundesländer übergreifend \nBucht einen Platz und seid dabei! \nWir freuen uns auf Euch\, gemeinsame Ideen und viele interessante Themen. \nVielen Dank\, beste Grüße und bis bald.\nAndreas Genske\, Thorsten Rödel und Matthias Brinkmann \n  \nNeugierig geworden?\nUnsere Ansprechpartner helfen Ihnen gerne weiter: \n \nMatthias Brinkmann \n+49 (0)911 / 47 49 49 49\nbrinkmann@twobe.de \n  \n \nKathrin Hasseler \n+49 (0)911 / 47 49 49 54\nhasseler@twobe.de \n 
URL:https://2be-markenmacher.de/veranstaltung/ganzheitliche-digitalisierung-expert-runde-3/
LOCATION:Hybrid\, Dr.-Carlo-Schmid-Straße 200\, Nürnberg\, 90482
ATTACH;FMTTYPE=image/jpeg:https://2be-markenmacher.de/wp-content/uploads/Veranstaltung-ExpertRunde-AndreasGenske-Oktober.jpg
ORGANIZER;CN="2be_die markenmacher":MAILTO:projektmanagement@twobe.de
END:VEVENT
BEGIN:VEVENT
DTSTART;TZID=Europe/Berlin:20220720T170000
DTEND;TZID=Europe/Berlin:20220720T190000
DTSTAMP:20260421T000529
CREATED:20221221T142021Z
LAST-MODIFIED:20221221T142022Z
UID:10000011-1658336400-1658343600@2be-markenmacher.de
SUMMARY:Ganzheitliche Digitalisierung - EXPERT RUNDE
DESCRIPTION:Du warst bereits bei einer unserer Experten Runde dabei? Dann bist du hier mehr als richtig: \nAndreas Genske\, Thorsten Rödel und Matthias Brinkmann möchten sehr herzlich zu einer weiteren „Runde der Experten“ zum Thema Ganzheitliche Digitalisierung einladen. \nWann: Donnerstag\, den 20.07./ 17.00 – 19.00 Uhr\nWie: Hybrid-Veranstaltung (per Microsoft Teams und vor Ort) \nGemeinsam werden wir folgende Themen besprechen und unbedingt diskutieren:\n– Wie können die Beratungsunternehmen erfolgreich zusammenarbeiten?\n– Gemeinsam aktuelle Anforderungen und vermeintliche Hürden meistern!\n– Erfahrungsaustausch – Bundesländer übergreifend \n  \nBucht einen Platz und seid dabei! \nWir freuen uns auf Euch\, gemeinsame Ideen und viele interessante Themen. \nVielen Dank\, beste Grüße und bis bald.\nAndreas Genske\, Thorsten Rödel und Matthias Brinkmann \n  \nNeugierig geworden?\nUnsere Ansprechpartner helfen Ihnen gerne weiter: \n \nMatthias Brinkmann \n+49 (0)911 / 47 49 49 49\nbrinkmann@twobe.de \n  \n \nKathrin Hasseler \n+49 (0)911 / 47 49 49 54\nhasseler@twobe.de \n 
URL:https://2be-markenmacher.de/veranstaltung/ganzheitliche-digitalisierung-expert-runde-2/
LOCATION:Hybrid\, Dr.-Carlo-Schmid-Straße 200\, Nürnberg\, 90482
ATTACH;FMTTYPE=image/jpeg:https://2be-markenmacher.de/wp-content/uploads/2022/07/go-digital-expert-juli-2022-veranstaltung-2be-die-markenmacher.jpg
ORGANIZER;CN="2be_die markenmacher":MAILTO:projektmanagement@twobe.de
END:VEVENT
BEGIN:VEVENT
DTSTART;TZID=Europe/Berlin:20220615T170000
DTEND;TZID=Europe/Berlin:20220615T190000
DTSTAMP:20260421T000529
CREATED:20230112T081155Z
LAST-MODIFIED:20230112T081322Z
UID:10000013-1655312400-1655319600@2be-markenmacher.de
SUMMARY:go-digital - EXPERT RUNDE
DESCRIPTION:Vom Antrag zum Erfolg – Wie komme ich schnell und einfach zum Ziel? Anforderungen meistern – Wir zeigen wie. \nDu warst bereits bei einer unserer Experten Runde dabei? Dann bist du hier mehr als richtig: \nAndreas Genske\, Thorsten Rödel und Matthias Brinkmann möchten alle Teilnehmer der ersten drei Veranstaltungen zum Thema go digital sehr herzlich zur „Runde der Experten“ einladen. \nWann: Donnerstag\, den 15.06. / 17.00 – 19.00 Uhr\nWie: Hybrid-Veranstaltung (per Microsoft Teams und vor Ort) \nGemeinsam werden wir folgende Themen besprechen und unbedingt diskutieren:\n– Wie können die Beratungsunternehmen erfolgreich zusammenarbeiten?\n– Gemeinsam aktuelle Anforderungen und vermeintliche Hürden meistern!\n– Erfahrungsaustausch – Bundesländer übergreifend \n  \nBucht einen Platz und seid dabei! \nWir freuen uns auf Euch\, gemeinsame Ideen und viele interessante Themen. \nVielen Dank\, beste Grüße und bis bald.\nAndreas Genske\, Thorsten Rödel und Matthias Brinkmann \n  \nNeugierig geworden?\nUnsere Ansprechpartner helfen Ihnen gerne weiter: \n \nMatthias Brinkmann \n+49 (0)911 / 47 49 49 49\nbrinkmann@twobe.de \n  \n \nKathrin Hasseler \n+49 (0)911 / 47 49 49 54\nhasseler@twobe.de \n 
URL:https://2be-markenmacher.de/veranstaltung/go-digital-expert-runde-beratungsunternehmen/
LOCATION:Hybrid\, Dr.-Carlo-Schmid-Straße 200\, Nürnberg\, 90482
ATTACH;FMTTYPE=image/jpeg:https://2be-markenmacher.de/wp-content/uploads/2022/04/go-digital-juni-2022-veranstaltung-2be-die-markenmacher.jpg
ORGANIZER;CN="2be_die markenmacher":MAILTO:projektmanagement@twobe.de
END:VEVENT
BEGIN:VEVENT
DTSTART;TZID=Europe/Berlin:20220426T170000
DTEND;TZID=Europe/Berlin:20220426T190000
DTSTAMP:20260421T000529
CREATED:20230112T144436Z
LAST-MODIFIED:20230112T144551Z
UID:10000019-1650992400-1650999600@2be-markenmacher.de
SUMMARY:go-digital - Einfach erklärt
DESCRIPTION:Andreas Genske\, Thorsten Rödel und Matthias Brinkmann möchten Dich sehr herzlich zum nächsten digitalen Netzwerktreffen einladen. \nWann: Dienstag\, den 26.04.2022 / 17.00 – 19.00 Uhr\nWie: Online-Veranstaltung (per Microsoft Teams) \nGemeinsam werden wir folgende Themen besprechen und unbedingt diskutieren:\n– Vom Antrag zum Erfolg – Wie komme ich schnell und einfach zum Ziel?\n– Anforderungen meistern – Wir zeigen wie\n– Erfahrungsaustausch – Dem Experten lauschen \nBucht einen Platz und seid dabei! \nWir freuen uns auf Euch\, gemeinsame Ideen und viele interessante Themen. \nVielen Dank\, beste Grüße und bis bald.\nAndreas Genske\, Thorsten Rödel und Matthias Brinkmann \n  \nNeugierig geworden?\nUnsere Ansprechpartner helfen Ihnen gerne weiter: \n \nMatthias Brinkmann \n+49 (0)911 / 47 49 49 49\nbrinkmann@twobe.de \n  \n \nKathrin Hasseler \n+49 (0)911 / 47 49 49 54\nhasseler@twobe.de \n 
URL:https://2be-markenmacher.de/veranstaltung/go-digital-einfach-erklaert/
LOCATION:Hybrid\, Dr.-Carlo-Schmid-Straße 200\, Nürnberg\, 90482
ATTACH;FMTTYPE=image/jpeg:https://2be-markenmacher.de/wp-content/uploads/2022/02/go-digital-april-2022-veranstaltung-2be-die-markenmacher.jpg
ORGANIZER;CN="2be_die markenmacher":MAILTO:projektmanagement@twobe.de
END:VEVENT
END:VCALENDAR