BEGIN:VCALENDAR
VERSION:2.0
PRODID:-//2be Website - ECPv6.15.20//NONSGML v1.0//EN
CALSCALE:GREGORIAN
METHOD:PUBLISH
X-WR-CALNAME:2be Website
X-ORIGINAL-URL:https://2be-markenmacher.de
X-WR-CALDESC:Veranstaltungen für 2be Website
REFRESH-INTERVAL;VALUE=DURATION:PT1H
X-Robots-Tag:noindex
X-PUBLISHED-TTL:PT1H
BEGIN:VTIMEZONE
TZID:Europe/Berlin
BEGIN:DAYLIGHT
TZOFFSETFROM:+0100
TZOFFSETTO:+0200
TZNAME:CEST
DTSTART:20230326T010000
END:DAYLIGHT
BEGIN:STANDARD
TZOFFSETFROM:+0200
TZOFFSETTO:+0100
TZNAME:CET
DTSTART:20231029T010000
END:STANDARD
BEGIN:DAYLIGHT
TZOFFSETFROM:+0100
TZOFFSETTO:+0200
TZNAME:CEST
DTSTART:20240331T010000
END:DAYLIGHT
BEGIN:STANDARD
TZOFFSETFROM:+0200
TZOFFSETTO:+0100
TZNAME:CET
DTSTART:20241027T010000
END:STANDARD
BEGIN:DAYLIGHT
TZOFFSETFROM:+0100
TZOFFSETTO:+0200
TZNAME:CEST
DTSTART:20250330T010000
END:DAYLIGHT
BEGIN:STANDARD
TZOFFSETFROM:+0200
TZOFFSETTO:+0100
TZNAME:CET
DTSTART:20251026T010000
END:STANDARD
BEGIN:DAYLIGHT
TZOFFSETFROM:+0100
TZOFFSETTO:+0200
TZNAME:CEST
DTSTART:20260329T010000
END:DAYLIGHT
BEGIN:STANDARD
TZOFFSETFROM:+0200
TZOFFSETTO:+0100
TZNAME:CET
DTSTART:20261025T010000
END:STANDARD
END:VTIMEZONE
BEGIN:VEVENT
DTSTART;TZID=Europe/Berlin:20251112T090000
DTEND;TZID=Europe/Berlin:20251112T140000
DTSTAMP:20260420T200004
CREATED:20250120T095544Z
LAST-MODIFIED:20251028T115622Z
UID:10000083-1762938000-1762956000@2be-markenmacher.de
SUMMARY:Gemeinsam Vertriebserfolge gestalten - Dein Weg zu innovativen Kampagnen
DESCRIPTION:Hier könnt ihr teilnehmen:\nTicket buchen \nWarum neue Produktideen oft nicht in den Markt finden – und was sich ändern muss.\nZwischen strategischer Innovation und operativem Vertrieb entsteht häufig eine Innovationslücke: Während Business Development und Produktmanagement neue Impulse setzen\, konzentriert sich der Vertrieb auf bestehende Produkte – die „Low Hanging Fruits“. Das Ergebnis: Zukunftsweisende Themen geraten ins Hintertreffen. \nIn diesem Workshop beleuchten wir das Spannungsfeld zwischen Strategie und Vertrieb – zwischen langfristiger Innovationsorientierung und kurzfristigem Umsatzziel. Wir analysieren zentrale Barrieren wie fehlende Storylines\, unklare Verantwortlichkeiten und mangelnde Integration neuer Themen in bestehende Kampagnenstrukturen. \nZiel des Workshops:\nDie Lücke zwischen Strategie und Vertrieb sichtbar machen\, Go-to-Market-Strategien verstehen und Kampagnenideen entwickeln\, die Innovationen erfolgreich in den Markt bringen. In interaktiven Arbeitsgruppen erarbeiten wir praxisnahe Ansätze\, teilen Best Practices und schaffen die Basis für zukunftsfähige Vertriebslösungen. \nGestalte mit uns die nächste Generation erfolgreicher Vertriebskampagnen! \nWann: Mittwoch\, 12.11.2025\nUhrzeit: 09:00 – 14:00 Uhr\nOrt: Online und vor Ort bei DEHN SE\n \nAgenda: \n\nAusgangslage & Zielsetzung\nKonflikt zwischen Strategie und Vertrieb\nKommunikationsbarrieren / Herausforderungen\nFallbeispiel\nLösungsansätze\nFazit & Ausblick\n\nVielen Dank\, beste Grüße und bis bald.\nUwe Klaus und Matthias Brinkmann \nNeugierig geworden?\nUnsere Ansprechpartner helfen Ihnen gerne weiter: \n \nMatthias Brinkmann \n+49 (0)911 / 47 49 49 49\nbrinkmann@twobe.de \n 
URL:https://2be-markenmacher.de/veranstaltung/gemeinsam-vertriebserfolge-gestalten/
ATTACH;FMTTYPE=image/jpeg:https://2be-markenmacher.de/wp-content/uploads/gemeinsam-vertriebserfolge-gestalten-veranstaltung-dehn-se-2be-die-markenmacher-2.jpg
END:VEVENT
BEGIN:VEVENT
DTSTART;TZID=Europe/Berlin:20241121T100000
DTEND;TZID=Europe/Berlin:20241121T111500
DTSTAMP:20260420T200004
CREATED:20241024T135826Z
LAST-MODIFIED:20241120T165740Z
UID:10000079-1732183200-1732187700@2be-markenmacher.de
SUMMARY:Vertriebskampagne in der Vorentwicklung
DESCRIPTION:Innovationsprojekte bergen oft ein höheres Marktrisiko als das technische Scheitern einer neuen Erfindung – ein bekanntes Beispiel hierfür ist die Einführung des Mikrowellenherdes. Gerade deshalb sind Vertriebskampagnen bereits in der Vorentwicklungsphase von entscheidender Bedeutung. Sie erleichtern nicht nur den Markteintritt\, sondern setzen auch schon früh die richtigen strategischen Weichen. \nAm 21. November präsentiert Matthias bei Voith einen strukturierten Ansatz für Vertriebskampagnen im Innovationsprozess. Anhand von Best-Practice-Beispielen zeigen wir\, wie entlang des Innovationsprozesses gezielt Bausteine für den Vertrieb entwickelt werden. \nUnser Konzept beleuchtet sowohl die Außenwirkung als auch die internen Prozesse: \n\nNach außen: Branding\, die Theorie der Markenfindung\, die Inszenierung technischer Meilensteine\, gewinnbringende Kollaborationen und die Generierung von Vorbestellungen.\nNach innen: Wie frühzeitiges Kundenfeedback die Vorentwicklung optimiert\, die Produkteigenschaften prägt und entscheidende Impulse für den Erfolg setzt.\n\nSichere Dir hier einen Platz und sei dabei. \nWann: Donnerstag\, 21.11.2024\nUhrzeit: 10.00 -11.15 Uhr\nOrt: Online \n \nWir freuen uns auf Dich. 😊\nNeugierig geworden?\nUnsere Ansprechpartner helfen Ihnen gerne weiter: \n \nMatthias Brinkmann \n+49 (0)911 / 47 49 49 49\nbrinkmann@twobe.de \n 
URL:https://2be-markenmacher.de/veranstaltung/vertriebskampagnen-im-innovationsprozess/
LOCATION:Hybrid\, Dr.-Carlo-Schmid-Straße 200\, Nürnberg\, 90482
ATTACH;FMTTYPE=image/jpeg:https://2be-markenmacher.de/wp-content/uploads/vertriebskampagne-vorentwicklung-quer.kraft-voith-2be-die-markenmacher.jpg
END:VEVENT
BEGIN:VEVENT
DTSTART;TZID=Europe/Berlin:20241023T093000
DTEND;TZID=Europe/Berlin:20241023T143000
DTSTAMP:20260420T200004
CREATED:20240614T101420Z
LAST-MODIFIED:20241015T130551Z
UID:10000073-1729675800-1729693800@2be-markenmacher.de
SUMMARY:Internationale Vertriebskampagne - AK Vertriebskampagne im Innovationsprozess - quer.kraft - Zollner Elektronik AG und 2be_die markenmacher
DESCRIPTION:Entdecke die spannende Welt der internationalen Vertriebskampagne und deren vielfältige Anwendungsfelder. Bei unserer Veranstaltung werden wir gemeinsam diese Themen praxisnah erörtern. \nUnser Ziel ist es\, durch den Austausch in kleinen Arbeitsgruppen innovativer Ansätze unsere Vertriebsstrategien kontinuierlich zu verbessern und den Erfolg unserer Kampagne nachhaltig sicherzustellen. \nLasst uns gemeinsam die Zukunft unseres Vertriebs gestalten und wegweisende Lösungen entwickeln. \nWann: Mittwoch\, den 23.10.2024\nUhrzeit: 09.30 – 14.30 Uhr\nOrt: Online oder gerne bei Zollner vor Ort \nAgenda: \n9:30 Uhr Start\n9:30 – 10:30 Uhr Vortrag von Agnes (30 min)\n– Diskussion (30 min) Aufgabe: Instrumente für die nationale Kampagne (30 min)\n10:30 – 10:45 Uhr Pause (15 min)\n10:45 – 11:45 Uhr Vortrag von Matthias (30 min)\n– Diskussion (30 min) Aufgabe: Instrumente für die internationale Kampagne (30 min)\n11:45 – 12:15 Uhr Bewertung der nationalen und internationalen Instrumente (30 min)\n12:30 – 13:30 Uhr Mittagessen\n13:30 – 14:30 Uhr Firmenführung – Produktion\n14:30 Uhr Ende \nWir freuen uns auf Euch\, gemeinsame Ideen und viele interessante Themen. 😉 \nBucht euch gerne ein Ticket auf quer.kraft.\nVielen Dank\, beste Grüße und bis bald. \nNeugierig geworden?\nUnsere Ansprechpartner helfen Ihnen gerne weiter: \n \nMatthias Brinkmann \n+4991147494951\nbrinkmann@twobe.de \n 
URL:https://2be-markenmacher.de/veranstaltung/veranstaltung-zur-internationalen-vertriebskampagne-strategien-und-best-practices/
LOCATION:Zollner Elektronik AG\, Manfred-Zollner-Str. 1\, Zandt\, Bayern\, 93499\, Deutschland
ATTACH;FMTTYPE=image/jpeg:https://2be-markenmacher.de/wp-content/uploads/internationale-vertriebskampagne-ki-veranstaltung-2be-die-markenmacher.jpg
END:VEVENT
END:VCALENDAR